BEGIN:VCALENDAR
VERSION:2.0
PRODID:-//BanRasiya - ECPv6.15.20//NONSGML v1.0//EN
CALSCALE:GREGORIAN
METHOD:PUBLISH
X-WR-CALNAME:BanRasiya
X-ORIGINAL-URL:https://banrasiya.com
X-WR-CALDESC:Events for BanRasiya
REFRESH-INTERVAL;VALUE=DURATION:PT1H
X-Robots-Tag:noindex
X-PUBLISHED-TTL:PT1H
BEGIN:VTIMEZONE
TZID:UTC
BEGIN:STANDARD
TZOFFSETFROM:+0000
TZOFFSETTO:+0000
TZNAME:UTC
DTSTART:20240101T000000
END:STANDARD
END:VTIMEZONE
BEGIN:VEVENT
DTSTART;TZID=UTC:20250606T000000
DTEND;TZID=UTC:20301120T235900
DTSTAMP:20260421T054603
CREATED:20240913T013231Z
LAST-MODIFIED:20250109T014234Z
UID:42503-1749168000-1921449540@banrasiya.com
SUMMARY:Zen Dinner: Harmony of Dishes and Drinks
DESCRIPTION:Step beyond the threshold of the ordinary into a realm where time bends and moments dissolve. This is not a journey but an unfolding—a convergence of sound\, light\, and thought\, where the lines between audience and performer blur into abstraction. \nFeel the pulse of shifting atmospheres. Witness fleeting glimpses of the infinite. Engage with the intangible as we invite you to explore the spaces between what is seen\, heard\, and imagined. \nNo maps. No anchors. Just an invitation to experience what lies beyond the edge of perception.
URL:https://banrasiya.com/event/zen-dinner-harmony-of-dishes-and-drinks/
LOCATION:Venue
END:VEVENT
BEGIN:VEVENT
DTSTART;TZID=UTC:20250719T000000
DTEND;TZID=UTC:20310102T235900
DTSTAMP:20260421T054603
CREATED:20250109T012821Z
LAST-MODIFIED:20250109T014228Z
UID:44870-1752883200-1925164740@banrasiya.com
SUMMARY:Secrets of the East: Traditional Sake Tasting
DESCRIPTION:Step beyond the threshold of the ordinary into a realm where time bends and moments dissolve. This is not a journey but an unfolding—a convergence of sound\, light\, and thought\, where the lines between audience and performer blur into abstraction. \nFeel the pulse of shifting atmospheres. Witness fleeting glimpses of the infinite. Engage with the intangible as we invite you to explore the spaces between what is seen\, heard\, and imagined. \nNo maps. No anchors. Just an invitation to experience what lies beyond the edge of perception.
URL:https://banrasiya.com/event/secrets-of-the-east-traditional-sake-tasting/
LOCATION:Venue
ATTACH;FMTTYPE=image/jpeg:https://banrasiya.com/wp-content/uploads/2025/01/event_03.jpg
END:VEVENT
BEGIN:VEVENT
DTSTART;TZID=UTC:20251012T000000
DTEND;TZID=UTC:20301120T235900
DTSTAMP:20260421T054603
CREATED:20241121T022659Z
LAST-MODIFIED:20250109T014222Z
UID:42499-1760227200-1921449540@banrasiya.com
SUMMARY:Gastro Journey: From Beijing to Kyoto
DESCRIPTION:Step beyond the threshold of the ordinary into a realm where time bends and moments dissolve. This is not a journey but an unfolding—a convergence of sound\, light\, and thought\, where the lines between audience and performer blur into abstraction. \nFeel the pulse of shifting atmospheres. Witness fleeting glimpses of the infinite. Engage with the intangible as we invite you to explore the spaces between what is seen\, heard\, and imagined. \nNo maps. No anchors. Just an invitation to experience what lies beyond the edge of perception.
URL:https://banrasiya.com/event/gastro-journey-from-beijing-to-kyoto/
LOCATION:Venue
END:VEVENT
BEGIN:VEVENT
DTSTART;TZID=UTC:20251120T000000
DTEND;TZID=UTC:20301120T235900
DTSTAMP:20260421T054603
CREATED:20241121T023240Z
LAST-MODIFIED:20250109T014200Z
UID:42502-1763596800-1921449540@banrasiya.com
SUMMARY:Samurai Night: Sake and Sushi with no Limits
DESCRIPTION:Step beyond the threshold of the ordinary into a realm where time bends and moments dissolve. This is not a journey but an unfolding—a convergence of sound\, light\, and thought\, where the lines between audience and performer blur into abstraction. \nFeel the pulse of shifting atmospheres. Witness fleeting glimpses of the infinite. Engage with the intangible as we invite you to explore the spaces between what is seen\, heard\, and imagined. \nNo maps. No anchors. Just an invitation to experience what lies beyond the edge of perception.
URL:https://banrasiya.com/event/samurai-night-sake-and-sushi-with-no-limits/
LOCATION:Venue
ATTACH;FMTTYPE=image/jpeg:https://banrasiya.com/wp-content/uploads/2025/01/event_01.jpg
END:VEVENT
END:VCALENDAR